BEGIN:VCALENDAR
VERSION:2.0
PRODID:-//Graduate House at University of Toronto - ECPv6.15.20//NONSGML v1.0//EN
CALSCALE:GREGORIAN
METHOD:PUBLISH
X-WR-CALNAME:Graduate House at University of Toronto
X-ORIGINAL-URL:https://gradhouse.utoronto.ca
X-WR-CALDESC:Events for Graduate House at University of Toronto
REFRESH-INTERVAL;VALUE=DURATION:PT1H
X-Robots-Tag:noindex
X-PUBLISHED-TTL:PT1H
BEGIN:VTIMEZONE
TZID:America/New_York
BEGIN:DAYLIGHT
TZOFFSETFROM:-0500
TZOFFSETTO:-0400
TZNAME:EDT
DTSTART:20230312T070000
END:DAYLIGHT
BEGIN:STANDARD
TZOFFSETFROM:-0400
TZOFFSETTO:-0500
TZNAME:EST
DTSTART:20231105T060000
END:STANDARD
BEGIN:DAYLIGHT
TZOFFSETFROM:-0500
TZOFFSETTO:-0400
TZNAME:EDT
DTSTART:20240310T070000
END:DAYLIGHT
BEGIN:STANDARD
TZOFFSETFROM:-0400
TZOFFSETTO:-0500
TZNAME:EST
DTSTART:20241103T060000
END:STANDARD
BEGIN:DAYLIGHT
TZOFFSETFROM:-0500
TZOFFSETTO:-0400
TZNAME:EDT
DTSTART:20250309T070000
END:DAYLIGHT
BEGIN:STANDARD
TZOFFSETFROM:-0400
TZOFFSETTO:-0500
TZNAME:EST
DTSTART:20251102T060000
END:STANDARD
END:VTIMEZONE
BEGIN:VEVENT
DTSTART;TZID=America/New_York:20241101T000000
DTEND;TZID=America/New_York:20241130T235959
DTSTAMP:20260421T212126
CREATED:20241030T221736Z
LAST-MODIFIED:20241101T005116Z
UID:6957-1730419200-1733011199@gradhouse.utoronto.ca
SUMMARY:Grad House Mentorship Program
DESCRIPTION:Are you a junior resident (1-2 years) looking to thrive in your academic and professional journey? Or a seasoned senior resident excited to make a positive impact? Join the Grad House Mentorship Program and embark on a transformative experience that bridges the gap between experience and enthusiasm! \n\n\n\nExperience the power of mentorship as junior residents team up with senior residents (>2 years at GH) who’ve been in your shoes. Gain valuable insights\, tips\, and tricks for conquering coursework\, managing time effectively\, and achieving your goals with finesse. Whether it’s advice on study strategies\, career paths\, or work-life balance\, your mentor is here to guide you. \n\n\n\nFor questions\, please contact RA Lia  \n\n\n\nEligible for GCPS \n\n\n\n\nRegistration form
URL:https://gradhouse.utoronto.ca/event/grad-house-mentorship-program/
END:VEVENT
BEGIN:VEVENT
DTSTART;TZID=America/New_York:20241116T140000
DTEND;TZID=America/New_York:20241116T140000
DTSTAMP:20260421T212126
CREATED:20241029T173648Z
LAST-MODIFIED:20241126T194400Z
UID:6951-1731765600-1731765600@gradhouse.utoronto.ca
SUMMARY:Key Chain Craft Workshop
DESCRIPTION:Join us for an engaging and creative workshop where you can unwind\, network\, and unleash your artistic side! Add your own personalized touch to your Graduate House keys with a unique handmade key chain while connecting with fellow residents. \n\n\n\nFor questions\, please contact RA Lola \n\n\n\nEligible for GCPS \n\n\n\n\nSign-up Here
URL:https://gradhouse.utoronto.ca/event/key-chain-craft-workshop/
LOCATION:CCR
END:VEVENT
END:VCALENDAR